BEGIN:VCALENDAR
VERSION:2.0
PRODID:-//Region 11 Chicago EMS - ECPv6.0.3.1//NONSGML v1.0//EN
CALSCALE:GREGORIAN
METHOD:PUBLISH
X-ORIGINAL-URL:https://chicagoems.org
X-WR-CALDESC:Events for Region 11 Chicago EMS
REFRESH-INTERVAL;VALUE=DURATION:PT1H
X-Robots-Tag:noindex
X-PUBLISHED-TTL:PT1H
BEGIN:VTIMEZONE
TZID:America/Chicago
BEGIN:DAYLIGHT
TZOFFSETFROM:-0600
TZOFFSETTO:-0500
TZNAME:CDT
DTSTART:20260308T080000
END:DAYLIGHT
BEGIN:STANDARD
TZOFFSETFROM:-0500
TZOFFSETTO:-0600
TZNAME:CST
DTSTART:20261101T070000
END:STANDARD
END:VTIMEZONE
BEGIN:VEVENT
DTSTART;TZID=America/Chicago:20260423T090000
DTEND;TZID=America/Chicago:20260423T123000
DTSTAMP:20260425T093952
CREATED:20260205T161804Z
LAST-MODIFIED:20260217T175830Z
UID:10000309-1776934800-1776947400@chicagoems.org
SUMMARY:2026 Preceptor Workshops for New Preceptors
DESCRIPTION:Please consider taking a Malcolm X College Paramedic student for the upcoming summer internship! Continuing education is available for precepting a student (6 hrs) AND attending a Preceptor Workshop (3.5 hrs)*. \n*You must attend the workshop to accept a student and obtain continuing education* \nWorkshops for NEW Preceptors will take place on the following days from 9 am – 12:30 pm: \n\nApril 6 at Malcolm X College\nApril 9 at Malcolm X College\nApril 16 at Malcolm X College\nApril 23 at Malcolm X College\n\nSee workshop flyer for additional information. \nClick here to register.
URL:https://chicagoems.org/event/2026-preceptor-workshops-for-new-preceptors/2026-04-23/
LOCATION:Malcolm X College\, 1900 W. Jackson Blvd.\, Chicago\, IL
ORGANIZER;CN="Harry%20Meyers":MAILTO:hmeyers@ccc.edu
END:VEVENT
BEGIN:VEVENT
DTSTART;TZID=America/Chicago:20260416T090000
DTEND;TZID=America/Chicago:20260416T123000
DTSTAMP:20260425T093952
CREATED:20260205T161804Z
LAST-MODIFIED:20260217T175830Z
UID:10000308-1776330000-1776342600@chicagoems.org
SUMMARY:2026 Preceptor Workshops for New Preceptors
DESCRIPTION:Please consider taking a Malcolm X College Paramedic student for the upcoming summer internship! Continuing education is available for precepting a student (6 hrs) AND attending a Preceptor Workshop (3.5 hrs)*. \n*You must attend the workshop to accept a student and obtain continuing education* \nWorkshops for NEW Preceptors will take place on the following days from 9 am – 12:30 pm: \n\nApril 6 at Malcolm X College\nApril 9 at Malcolm X College\nApril 16 at Malcolm X College\nApril 23 at Malcolm X College\n\nSee workshop flyer for additional information. \nClick here to register.
URL:https://chicagoems.org/event/2026-preceptor-workshops-for-new-preceptors/2026-04-16/
LOCATION:Malcolm X College\, 1900 W. Jackson Blvd.\, Chicago\, IL
ORGANIZER;CN="Harry%20Meyers":MAILTO:hmeyers@ccc.edu
END:VEVENT
BEGIN:VEVENT
DTSTART;TZID=America/Chicago:20260409T090000
DTEND;TZID=America/Chicago:20260409T123000
DTSTAMP:20260425T093952
CREATED:20260205T161804Z
LAST-MODIFIED:20260217T175830Z
UID:10000307-1775725200-1775737800@chicagoems.org
SUMMARY:2026 Preceptor Workshops for New Preceptors
DESCRIPTION:Please consider taking a Malcolm X College Paramedic student for the upcoming summer internship! Continuing education is available for precepting a student (6 hrs) AND attending a Preceptor Workshop (3.5 hrs)*. \n*You must attend the workshop to accept a student and obtain continuing education* \nWorkshops for NEW Preceptors will take place on the following days from 9 am – 12:30 pm: \n\nApril 6 at Malcolm X College\nApril 9 at Malcolm X College\nApril 16 at Malcolm X College\nApril 23 at Malcolm X College\n\nSee workshop flyer for additional information. \nClick here to register.
URL:https://chicagoems.org/event/2026-preceptor-workshops-for-new-preceptors/2026-04-09/
LOCATION:Malcolm X College\, 1900 W. Jackson Blvd.\, Chicago\, IL
ORGANIZER;CN="Harry%20Meyers":MAILTO:hmeyers@ccc.edu
END:VEVENT
BEGIN:VEVENT
DTSTART;TZID=America/Chicago:20260406T090000
DTEND;TZID=America/Chicago:20260406T123000
DTSTAMP:20260425T093952
CREATED:20260205T161804Z
LAST-MODIFIED:20260217T175830Z
UID:10000306-1775466000-1775478600@chicagoems.org
SUMMARY:2026 Preceptor Workshops for New Preceptors
DESCRIPTION:Please consider taking a Malcolm X College Paramedic student for the upcoming summer internship! Continuing education is available for precepting a student (6 hrs) AND attending a Preceptor Workshop (3.5 hrs)*. \n*You must attend the workshop to accept a student and obtain continuing education* \nWorkshops for NEW Preceptors will take place on the following days from 9 am – 12:30 pm: \n\nApril 6 at Malcolm X College\nApril 9 at Malcolm X College\nApril 16 at Malcolm X College\nApril 23 at Malcolm X College\n\nSee workshop flyer for additional information. \nClick here to register.
URL:https://chicagoems.org/event/2026-preceptor-workshops-for-new-preceptors/2026-04-06/
LOCATION:Malcolm X College\, 1900 W. Jackson Blvd.\, Chicago\, IL
ORGANIZER;CN="Harry%20Meyers":MAILTO:hmeyers@ccc.edu
END:VEVENT
BEGIN:VEVENT
DTSTART;TZID=America/Chicago:20260326T090000
DTEND;TZID=America/Chicago:20260326T123000
DTSTAMP:20260425T093952
CREATED:20260205T162526Z
LAST-MODIFIED:20260218T185313Z
UID:10000318-1774515600-1774528200@chicagoems.org
SUMMARY:2026 Preceptor Workshops for Experienced Preceptors
DESCRIPTION:Please consider taking a Malcolm X College Paramedic student for the upcoming summer internship! Continuing education is available for precepting a student (6 hrs) AND attending a Preceptor Workshop (3.5 hrs)*. \n*You must attend the workshop to accept a student and obtain continuing education* \nWorkshops for EXPERIENCED Preceptors (i.e. must have attended a workshop within the last two years) will take place on the following days from 9 am – 12:30 pm: \n\nMarch 2 at Malcolm X College\nMarch 5 at Malcolm X College\nMarch 12 at Malcolm X College\nMarch 19 at Malcolm X College\nMarch 26 at CFD Public Safety Building\n\nSee workshop flyer for additional information. \nClick here to register.
URL:https://chicagoems.org/event/2026-preceptor-workshops-for-experienced-preceptors/2026-03-26/
LOCATION:Various Locations – See Dates\, Chicago\, IL
ORGANIZER;CN="Harry%20Meyers":MAILTO:hmeyers@ccc.edu
END:VEVENT
BEGIN:VEVENT
DTSTART;TZID=America/Chicago:20260319T090000
DTEND;TZID=America/Chicago:20260319T123000
DTSTAMP:20260425T093952
CREATED:20260205T162526Z
LAST-MODIFIED:20260218T185313Z
UID:10000317-1773910800-1773923400@chicagoems.org
SUMMARY:2026 Preceptor Workshops for Experienced Preceptors
DESCRIPTION:Please consider taking a Malcolm X College Paramedic student for the upcoming summer internship! Continuing education is available for precepting a student (6 hrs) AND attending a Preceptor Workshop (3.5 hrs)*. \n*You must attend the workshop to accept a student and obtain continuing education* \nWorkshops for EXPERIENCED Preceptors (i.e. must have attended a workshop within the last two years) will take place on the following days from 9 am – 12:30 pm: \n\nMarch 2 at Malcolm X College\nMarch 5 at Malcolm X College\nMarch 12 at Malcolm X College\nMarch 19 at Malcolm X College\nMarch 26 at CFD Public Safety Building\n\nSee workshop flyer for additional information. \nClick here to register.
URL:https://chicagoems.org/event/2026-preceptor-workshops-for-experienced-preceptors/2026-03-19/
LOCATION:Various Locations – See Dates\, Chicago\, IL
ORGANIZER;CN="Harry%20Meyers":MAILTO:hmeyers@ccc.edu
END:VEVENT
BEGIN:VEVENT
DTSTART;TZID=America/Chicago:20260312T090000
DTEND;TZID=America/Chicago:20260312T123000
DTSTAMP:20260425T093952
CREATED:20260205T162526Z
LAST-MODIFIED:20260218T185313Z
UID:10000316-1773306000-1773318600@chicagoems.org
SUMMARY:2026 Preceptor Workshops for Experienced Preceptors
DESCRIPTION:Please consider taking a Malcolm X College Paramedic student for the upcoming summer internship! Continuing education is available for precepting a student (6 hrs) AND attending a Preceptor Workshop (3.5 hrs)*. \n*You must attend the workshop to accept a student and obtain continuing education* \nWorkshops for EXPERIENCED Preceptors (i.e. must have attended a workshop within the last two years) will take place on the following days from 9 am – 12:30 pm: \n\nMarch 2 at Malcolm X College\nMarch 5 at Malcolm X College\nMarch 12 at Malcolm X College\nMarch 19 at Malcolm X College\nMarch 26 at CFD Public Safety Building\n\nSee workshop flyer for additional information. \nClick here to register.
URL:https://chicagoems.org/event/2026-preceptor-workshops-for-experienced-preceptors/2026-03-12/
LOCATION:Various Locations – See Dates\, Chicago\, IL
ORGANIZER;CN="Harry%20Meyers":MAILTO:hmeyers@ccc.edu
END:VEVENT
BEGIN:VEVENT
DTSTART;TZID=America/Chicago:20260305T090000
DTEND;TZID=America/Chicago:20260305T123000
DTSTAMP:20260425T093952
CREATED:20260205T162526Z
LAST-MODIFIED:20260218T185313Z
UID:10000315-1772701200-1772713800@chicagoems.org
SUMMARY:2026 Preceptor Workshops for Experienced Preceptors
DESCRIPTION:Please consider taking a Malcolm X College Paramedic student for the upcoming summer internship! Continuing education is available for precepting a student (6 hrs) AND attending a Preceptor Workshop (3.5 hrs)*. \n*You must attend the workshop to accept a student and obtain continuing education* \nWorkshops for EXPERIENCED Preceptors (i.e. must have attended a workshop within the last two years) will take place on the following days from 9 am – 12:30 pm: \n\nMarch 2 at Malcolm X College\nMarch 5 at Malcolm X College\nMarch 12 at Malcolm X College\nMarch 19 at Malcolm X College\nMarch 26 at CFD Public Safety Building\n\nSee workshop flyer for additional information. \nClick here to register.
URL:https://chicagoems.org/event/2026-preceptor-workshops-for-experienced-preceptors/2026-03-05/
LOCATION:Various Locations – See Dates\, Chicago\, IL
ORGANIZER;CN="Harry%20Meyers":MAILTO:hmeyers@ccc.edu
END:VEVENT
BEGIN:VEVENT
DTSTART;TZID=America/Chicago:20260302T090000
DTEND;TZID=America/Chicago:20260302T123000
DTSTAMP:20260425T093952
CREATED:20260205T162526Z
LAST-MODIFIED:20260218T185313Z
UID:10000314-1772442000-1772454600@chicagoems.org
SUMMARY:2026 Preceptor Workshops for Experienced Preceptors
DESCRIPTION:Please consider taking a Malcolm X College Paramedic student for the upcoming summer internship! Continuing education is available for precepting a student (6 hrs) AND attending a Preceptor Workshop (3.5 hrs)*. \n*You must attend the workshop to accept a student and obtain continuing education* \nWorkshops for EXPERIENCED Preceptors (i.e. must have attended a workshop within the last two years) will take place on the following days from 9 am – 12:30 pm: \n\nMarch 2 at Malcolm X College\nMarch 5 at Malcolm X College\nMarch 12 at Malcolm X College\nMarch 19 at Malcolm X College\nMarch 26 at CFD Public Safety Building\n\nSee workshop flyer for additional information. \nClick here to register.
URL:https://chicagoems.org/event/2026-preceptor-workshops-for-experienced-preceptors/2026-03-02/
LOCATION:Various Locations – See Dates\, Chicago\, IL
ORGANIZER;CN="Harry%20Meyers":MAILTO:hmeyers@ccc.edu
END:VEVENT
END:VCALENDAR